BEGIN:VCALENDAR
VERSION:2.0
PRODID: -//Q4 Inc.//EN
METHOD:PUBLISH
BEGIN:VTIMEZONE
TZID:America/New_York
X-LIC-LOCATION:America/New_York
BEGIN:DAYLIGHT
TZOFFSETFROM:-0500
TZOFFSETTO:-0400
TZNAME:EDT
DTSTART:19700308T020000
RRULE:FREQ=YEARLY;BYMONTH=3;BYDAY=2SU
END:DAYLIGHT
BEGIN:STANDARD
TZOFFSETFROM:-0400
TZOFFSETTO:-0500
TZNAME:EST
DTSTART:19701101T020000
RRULE:FREQ=YEARLY;BYMONTH=11;BYDAY=1SU
END:STANDARD
END:VTIMEZONE
BEGIN:VEVENT
ORGANIZER:MAILTO:no-reply@q4inc.com
DTSTART;TZID="America/New_York":20250722T080000
DTEND;TZID="America/New_York":20250722T090000
LOCATION:
UID:55fe1e8c-dd06-436c-8e71-7178978c831b
DTSTAMP:20260425T002437
SUMMARY:PulteGroup, Inc. Q2 2025 Earnings Conference Call
DESCRIPTION: View More Information: https://pultegroupinc.com/investor-relations/events-and-presentations/events/event-details/2025/PulteGroup-Inc-Q2-2025-Earnings-Conference-Call/default.aspx
URL;VALUE=URI:https://pultegroupinc.com/investor-relations/events-and-presentations/events/event-details/2025/PulteGroup-Inc-Q2-2025-Earnings-Conference-Call/default.aspx
PRIORITY:5
CLASS:PUBLIC
END:VEVENT
END:VCALENDAR
